
BEGIN:VCALENDAR
VERSION:2.0
PRODID:-//Konjeniška zveza Slovenije - ECPv5.3.2//NONSGML v1.0//EN
CALSCALE:GREGORIAN
METHOD:PUBLISH
X-WR-CALNAME:Konjeniška zveza Slovenije
X-ORIGINAL-URL:https://www.konj-zveza.org
X-WR-CALDESC:Events for Konjeniška zveza Slovenije
BEGIN:VTIMEZONE
TZID:UTC
BEGIN:STANDARD
TZOFFSETFROM:+0000
TZOFFSETTO:+0000
TZNAME:UTC
DTSTART:20220101T000000
END:STANDARD
END:VTIMEZONE
BEGIN:VEVENT
DTSTART;TZID=UTC:20220403T080000
DTEND;TZID=UTC:20220403T170000
DTSTAMP:20260426T022103
CREATED:20220329T101047Z
LAST-MODIFIED:20220329T101047Z
UID:7575-1648972800-1649005200@www.konj-zveza.org
SUMMARY:ENDURANCE KK PRISTOP
DESCRIPTION:
URL:https://www.konj-zveza.org/dogodek/endurance-kk-pristop/
CATEGORIES:Endurance
END:VEVENT
BEGIN:VEVENT
DTSTART;VALUE=DATE:20220422
DTEND;VALUE=DATE:20220425
DTSTAMP:20260426T022103
CREATED:20220217T085753Z
LAST-MODIFIED:20220415T071132Z
UID:7384-1650585600-1650844799@www.konj-zveza.org
SUMMARY:Kobilarna Lipica - Pokal SLO - ODPOVEDANO
DESCRIPTION:
URL:https://www.konj-zveza.org/dogodek/kobilarna-lipica-pokal-slo/
LOCATION:Kobilarna Lipica\, Lipica 5\, Sežana\, 6210
CATEGORIES:Preskakovanje ovir
END:VEVENT
BEGIN:VEVENT
DTSTART;VALUE=DATE:20220423
DTEND;VALUE=DATE:20220425
DTSTAMP:20260426T022103
CREATED:20220302T072441Z
LAST-MODIFIED:20220423T192503Z
UID:7477-1650672000-1650844799@www.konj-zveza.org
SUMMARY:CSN* - KK PIP
DESCRIPTION:VABILO \nŠtartne liste \nUrnik nedelja
URL:https://www.konj-zveza.org/dogodek/csnb-kk-pip/
CATEGORIES:Preskakovanje ovir
END:VEVENT
END:VCALENDAR