
BEGIN:VCALENDAR
VERSION:2.0
PRODID:-//Konjeniška zveza Slovenije - ECPv5.3.2//NONSGML v1.0//EN
CALSCALE:GREGORIAN
METHOD:PUBLISH
X-WR-CALNAME:Konjeniška zveza Slovenije
X-ORIGINAL-URL:https://www.konj-zveza.org
X-WR-CALDESC:Events for Konjeniška zveza Slovenije
BEGIN:VTIMEZONE
TZID:UTC
BEGIN:STANDARD
TZOFFSETFROM:+0000
TZOFFSETTO:+0000
TZNAME:UTC
DTSTART:20220101T000000
END:STANDARD
END:VTIMEZONE
BEGIN:VEVENT
DTSTART;VALUE=DATE:20220604
DTEND;VALUE=DATE:20220606
DTSTAMP:20260425T235527
CREATED:20220217T090218Z
LAST-MODIFIED:20220603T101108Z
UID:7395-1654300800-1654473599@www.konj-zveza.org
SUMMARY:CSN** ŠD KCC - Pokal SLO
DESCRIPTION:VABILO \nŠtartne liste\, urniki in rezultati
URL:https://www.konj-zveza.org/dogodek/kk-velenje-pokal-slo/
LOCATION:Celje\, Lopata\, Lopata 43\, Celje\, 3000\, Slovenija
CATEGORIES:Preskakovanje ovir
END:VEVENT
BEGIN:VEVENT
DTSTART;TZID=UTC:20220604T080000
DTEND;TZID=UTC:20220604T170000
DTSTAMP:20260425T235527
CREATED:20220217T214413Z
LAST-MODIFIED:20220523T074422Z
UID:7426-1654329600-1654362000@www.konj-zveza.org
SUMMARY:KK Krka Novo mesto - Pokal SLO
DESCRIPTION:VABILO KK GRM – DRESURA\, junij 2022
URL:https://www.konj-zveza.org/dogodek/kk-krka-novo-mesto-pokal-slo/
CATEGORIES:Dresura
END:VEVENT
BEGIN:VEVENT
DTSTART;VALUE=DATE:20220612
DTEND;VALUE=DATE:20220613
DTSTAMP:20260425T235527
CREATED:20220606T125342Z
LAST-MODIFIED:20220606T125342Z
UID:7987-1654992000-1655078399@www.konj-zveza.org
SUMMARY:CAN POKAL SLOVENIJE
DESCRIPTION:Vabilo_NM_2022
URL:https://www.konj-zveza.org/dogodek/can-pokal-slovenije/
CATEGORIES:Vožnja vpreg
ATTACH;FMTTYPE=image/jpeg:https://www.konj-zveza.org/wp-content/uploads/2022/02/SS7_3860.jpg-880.jpeg
END:VEVENT
BEGIN:VEVENT
DTSTART;VALUE=DATE:20220618
DTEND;VALUE=DATE:20220620
DTSTAMP:20260425T235527
CREATED:20220217T090136Z
LAST-MODIFIED:20220614T094355Z
UID:7392-1655510400-1655683199@www.konj-zveza.org
SUMMARY:ŠD Titani Ljubljana - Pokal SLO
DESCRIPTION:VABILO
URL:https://www.konj-zveza.org/dogodek/sd-titani-ljubljana-pokal-slo/
LOCATION:Hipodrom Stožice
CATEGORIES:Preskakovanje ovir
END:VEVENT
BEGIN:VEVENT
DTSTART;TZID=UTC:20220618T080000
DTEND;TZID=UTC:20220618T170000
DTSTAMP:20260425T235527
CREATED:20220217T214539Z
LAST-MODIFIED:20220608T084913Z
UID:7430-1655539200-1655571600@www.konj-zveza.org
SUMMARY:CDNA Hipodrom Kamnica - Pokal SLO
DESCRIPTION:VABILO
URL:https://www.konj-zveza.org/dogodek/cdna-hipodrom-kamnica-pokal-slo/
CATEGORIES:Dresura
END:VEVENT
BEGIN:VEVENT
DTSTART;TZID=UTC:20220625T080000
DTEND;TZID=UTC:20220625T170000
DTSTAMP:20260425T235527
CREATED:20220328T104834Z
LAST-MODIFIED:20220616T081130Z
UID:7568-1656144000-1656176400@www.konj-zveza.org
SUMMARY:CDNB JK KASCO SVEČINA
DESCRIPTION:VABILO za dresurno tekmo CDNB JK Kasco Svečina\, 25.6.2022
URL:https://www.konj-zveza.org/dogodek/csnb-jk-kasco-svecina-2/
CATEGORIES:Dresura
END:VEVENT
BEGIN:VEVENT
DTSTART;VALUE=DATE:20220629
DTEND;VALUE=DATE:20220703
DTSTAMP:20260425T235527
CREATED:20220217T090337Z
LAST-MODIFIED:20220628T183451Z
UID:7397-1656460800-1656806399@www.konj-zveza.org
SUMMARY:DRŽAVNO PRVENSTVO V PRESKAKOVANJU OVIR
DESCRIPTION:DP v preskakovanju ovir – propozicije 2022 \nŠTARTNE LISTE IN URNIKI
URL:https://www.konj-zveza.org/dogodek/drzavno-prvenstvo-v-preskakovanju-ovir/
LOCATION:Hipodrom Stožice
CATEGORIES:Preskakovanje ovir
END:VEVENT
END:VCALENDAR