
BEGIN:VCALENDAR
VERSION:2.0
PRODID:-//Konjeniška zveza Slovenije - ECPv5.3.2//NONSGML v1.0//EN
CALSCALE:GREGORIAN
METHOD:PUBLISH
X-WR-CALNAME:Konjeniška zveza Slovenije
X-ORIGINAL-URL:https://www.konj-zveza.org
X-WR-CALDESC:Events for Konjeniška zveza Slovenije
BEGIN:VTIMEZONE
TZID:UTC
BEGIN:STANDARD
TZOFFSETFROM:+0000
TZOFFSETTO:+0000
TZNAME:UTC
DTSTART:20220101T000000
END:STANDARD
END:VTIMEZONE
BEGIN:VEVENT
DTSTART;VALUE=DATE:20220629
DTEND;VALUE=DATE:20220703
DTSTAMP:20260425T223246
CREATED:20220217T090337Z
LAST-MODIFIED:20220628T183451Z
UID:7397-1656460800-1656806399@www.konj-zveza.org
SUMMARY:DRŽAVNO PRVENSTVO V PRESKAKOVANJU OVIR
DESCRIPTION:DP v preskakovanju ovir – propozicije 2022 \nŠTARTNE LISTE IN URNIKI
URL:https://www.konj-zveza.org/dogodek/drzavno-prvenstvo-v-preskakovanju-ovir/
LOCATION:Hipodrom Stožice
CATEGORIES:Preskakovanje ovir
END:VEVENT
BEGIN:VEVENT
DTSTART;TZID=UTC:20220709T080000
DTEND;TZID=UTC:20220710T170000
DTSTAMP:20260425T223246
CREATED:20220530T075600Z
LAST-MODIFIED:20220617T071709Z
UID:7934-1657353600-1657472400@www.konj-zveza.org
SUMMARY:CDNA KK BRDO PRI IHANU IN KK PIRAMIDA - POKAL SLO
DESCRIPTION:VABILO-tekma CDNA Piramida in Ihan
URL:https://www.konj-zveza.org/dogodek/cdna-kk-brdo-pri-ihanu-in-kk-piramida/
LOCATION:Brdo pri Ihanu\, Brdo 1\, Domžale\, 1230\, Slovenija
CATEGORIES:Dresura
END:VEVENT
BEGIN:VEVENT
DTSTART;TZID=UTC:20220723T080000
DTEND;TZID=UTC:20220723T170000
DTSTAMP:20260425T223246
CREATED:20220217T214436Z
LAST-MODIFIED:20220722T084423Z
UID:7428-1658563200-1658595600@www.konj-zveza.org
SUMMARY:CDNA KK Stol - PRESTAVITEV TERMINA
DESCRIPTION:VABILO: IMG_20220713_0001
URL:https://www.konj-zveza.org/dogodek/cdnc-kk-stol/
CATEGORIES:Dresura
END:VEVENT
BEGIN:VEVENT
DTSTART;TZID=UTC:20220723T080000
DTEND;TZID=UTC:20220723T170000
DTSTAMP:20260425T223246
CREATED:20220217T215349Z
LAST-MODIFIED:20220627T100514Z
UID:7442-1658563200-1658595600@www.konj-zveza.org
SUMMARY:DRŽAVNO PRVENSTVO V EVENTINGU
DESCRIPTION:VABILO ZA DP – 23.7.2022
URL:https://www.konj-zveza.org/dogodek/drzavno-prvenstvo-v-eventingu/
CATEGORIES:Eventing
END:VEVENT
END:VCALENDAR