
BEGIN:VCALENDAR
VERSION:2.0
PRODID:-//Konjeniška zveza Slovenije - ECPv5.3.2//NONSGML v1.0//EN
CALSCALE:GREGORIAN
METHOD:PUBLISH
X-WR-CALNAME:Konjeniška zveza Slovenije
X-ORIGINAL-URL:https://www.konj-zveza.org
X-WR-CALDESC:Events for Konjeniška zveza Slovenije
BEGIN:VTIMEZONE
TZID:UTC
BEGIN:STANDARD
TZOFFSETFROM:+0000
TZOFFSETTO:+0000
TZNAME:UTC
DTSTART:20220101T000000
END:STANDARD
END:VTIMEZONE
BEGIN:VEVENT
DTSTART;VALUE=DATE:20220902
DTEND;VALUE=DATE:20220905
DTSTAMP:20260425T200828
CREATED:20220217T090617Z
LAST-MODIFIED:20220902T130319Z
UID:7404-1662076800-1662335999@www.konj-zveza.org
SUMMARY:DRŽAVNO PRVENSTVO V DRESURNEM JAHANJU
DESCRIPTION:ŠTARTNE LISTE IN REZULTATI
URL:https://www.konj-zveza.org/dogodek/drzavno-prvenstvo-v-dresurnem-jahanju/
LOCATION:Hipodrom Kamnica
CATEGORIES:Dresura
END:VEVENT
BEGIN:VEVENT
DTSTART;VALUE=DATE:20220910
DTEND;VALUE=DATE:20220911
DTSTAMP:20260425T200828
CREATED:20220217T090741Z
LAST-MODIFIED:20220908T080452Z
UID:7409-1662768000-1662854399@www.konj-zveza.org
SUMMARY:CSN* KK Celje - ODPOVED
DESCRIPTION:VABILO – KK CELJE\, 10.09.2022
URL:https://www.konj-zveza.org/dogodek/csn-kk-celje-2/
LOCATION:Škofja vas 51\, 3211 Škofja vas
CATEGORIES:Preskakovanje ovir
END:VEVENT
BEGIN:VEVENT
DTSTART;TZID=UTC:20220917T080000
DTEND;TZID=UTC:20220917T170000
DTSTAMP:20260425T200828
CREATED:20220217T214904Z
LAST-MODIFIED:20220829T085434Z
UID:7434-1663401600-1663434000@www.konj-zveza.org
SUMMARY:CDNB KK Strmol
DESCRIPTION:Vabilo dresura KK STRMOL ROGATEC 2022
URL:https://www.konj-zveza.org/dogodek/cdnb-kk-strmol-2/
CATEGORIES:Dresura
END:VEVENT
BEGIN:VEVENT
DTSTART;VALUE=DATE:20220924
DTEND;VALUE=DATE:20220926
DTSTAMP:20260425T200828
CREATED:20220217T091619Z
LAST-MODIFIED:20220921T090810Z
UID:7411-1663977600-1664150399@www.konj-zveza.org
SUMMARY:FINALE POKALA SLO V PRESKAKOVANJU OVIR - KK Hipodrom Kamnica - NOV TERMIN
DESCRIPTION:Vabilo – Kamnica\, finale pokala 2022
URL:https://www.konj-zveza.org/dogodek/finale-pokala-slo-kc-hipodrom-kamnica/
LOCATION:Hipodrom Kamnica
CATEGORIES:Preskakovanje ovir
END:VEVENT
BEGIN:VEVENT
DTSTART;TZID=UTC:20220924T080000
DTEND;TZID=UTC:20220924T170000
DTSTAMP:20260425T200828
CREATED:20220217T215113Z
LAST-MODIFIED:20220920T074740Z
UID:7440-1664006400-1664038800@www.konj-zveza.org
SUMMARY:CDNA KK Stožice Ljubljana
DESCRIPTION:Vabilo – KK Stožice\, 25.9.2022
URL:https://www.konj-zveza.org/dogodek/cdna-kk-stozice-ljubljana-2/
CATEGORIES:Dresura
END:VEVENT
END:VCALENDAR