
BEGIN:VCALENDAR
VERSION:2.0
PRODID:-//Konjeniška zveza Slovenije - ECPv5.3.2//NONSGML v1.0//EN
CALSCALE:GREGORIAN
METHOD:PUBLISH
X-WR-CALNAME:Konjeniška zveza Slovenije
X-ORIGINAL-URL:https://www.konj-zveza.org
X-WR-CALDESC:Events for Konjeniška zveza Slovenije
BEGIN:VTIMEZONE
TZID:UTC
BEGIN:STANDARD
TZOFFSETFROM:+0000
TZOFFSETTO:+0000
TZNAME:UTC
DTSTART:20220101T000000
END:STANDARD
END:VTIMEZONE
BEGIN:VEVENT
DTSTART;TZID=UTC:20221119T080000
DTEND;TZID=UTC:20221119T170000
DTSTAMP:20260425T173617
CREATED:20221110T154406Z
LAST-MODIFIED:20221116T142025Z
UID:8732-1668844800-1668877200@www.konj-zveza.org
SUMMARY:CDNC KK STOŽICE LJUBLJANA - ODPOVED
DESCRIPTION:Vabilo Gameljne november 2022
URL:https://www.konj-zveza.org/dogodek/cdnc-kk-stozice-ljubljana/
LOCATION:Spodnje Gameljne 63a\, 1211 Ljubljana Šmartno
CATEGORIES:Dresura
END:VEVENT
END:VCALENDAR