
BEGIN:VCALENDAR
VERSION:2.0
PRODID:-//Konjeniška zveza Slovenije - ECPv5.3.2//NONSGML v1.0//EN
CALSCALE:GREGORIAN
METHOD:PUBLISH
X-WR-CALNAME:Konjeniška zveza Slovenije
X-ORIGINAL-URL:https://www.konj-zveza.org
X-WR-CALDESC:Events for Konjeniška zveza Slovenije
BEGIN:VTIMEZONE
TZID:UTC
BEGIN:STANDARD
TZOFFSETFROM:+0000
TZOFFSETTO:+0000
TZNAME:UTC
DTSTART:20230101T000000
END:STANDARD
END:VTIMEZONE
BEGIN:VEVENT
DTSTART;VALUE=DATE:20230929
DTEND;VALUE=DATE:20231002
DTSTAMP:20260425T032518
CREATED:20230110T122516Z
LAST-MODIFIED:20230919T082739Z
UID:8863-1695945600-1696204799@www.konj-zveza.org
SUMMARY:FINALE POKALA SLO - ŠD KONJENIŠKI CENTER CELJE
DESCRIPTION:CSN September 29.9. – 1.10.2023
URL:https://www.konj-zveza.org/dogodek/finale-pokala-slo-sd-konjeniski-center-celje/
CATEGORIES:Preskakovanje ovir
END:VEVENT
BEGIN:VEVENT
DTSTART;VALUE=DATE:20230930
DTEND;VALUE=DATE:20231002
DTSTAMP:20260425T032518
CREATED:20230110T122616Z
LAST-MODIFIED:20230925T073852Z
UID:8865-1696032000-1696204799@www.konj-zveza.org
SUMMARY:FINALE POKALA SLO V DRESURI IN DP ZA MLADE KONJE - ŠD TITANI LJUBLJANA
DESCRIPTION:VABILO Finale pokala v dresurnem jahanju 2023
URL:https://www.konj-zveza.org/dogodek/finale-pokala-slo-in-dp-za-mlade-konje-sd-titani-ljubljana/
CATEGORIES:Dresura
END:VEVENT
BEGIN:VEVENT
DTSTART;TZID=UTC:20231001T080000
DTEND;TZID=UTC:20231001T170000
DTSTAMP:20260425T032518
CREATED:20230925T080031Z
LAST-MODIFIED:20230925T080031Z
UID:9997-1696147200-1696179600@www.konj-zveza.org
SUMMARY:CAN 1* POKALNO TEKMOVANJE V VOŽNJI VPREG - KK STOL ŽIROVNICA
DESCRIPTION:Vabilo na pokalno tekmo vprege – KK STOL\, 2023
URL:https://www.konj-zveza.org/dogodek/can-1-pokalno-tekmovanje-v-voznji-vpreg-kk-stol-zirovnica/
CATEGORIES:Vožnja vpreg
END:VEVENT
BEGIN:VEVENT
DTSTART;VALUE=DATE:20231008
DTEND;VALUE=DATE:20231009
DTSTAMP:20260425T032518
CREATED:20230110T122731Z
LAST-MODIFIED:20230929T181507Z
UID:8867-1696723200-1696809599@www.konj-zveza.org
SUMMARY:CDNA KD MARSILEA
DESCRIPTION:VABILO-tekma KD Marsilea\, oktober 2023
URL:https://www.konj-zveza.org/dogodek/cdna-kd-marsilea-4/
CATEGORIES:Dresura
END:VEVENT
BEGIN:VEVENT
DTSTART;VALUE=DATE:20231008
DTEND;VALUE=DATE:20231009
DTSTAMP:20260425T032518
CREATED:20230411T174400Z
LAST-MODIFIED:20230925T101125Z
UID:9117-1696723200-1696809599@www.konj-zveza.org
SUMMARY:Finale Pokala SLO v endurancu - Pušenci
DESCRIPTION:Propozicije PRISTOP IN PRLEŠKO\, 08.10.2023
URL:https://www.konj-zveza.org/dogodek/finale-pokala-slo-v-endurancu-pusenci/
CATEGORIES:Endurance
END:VEVENT
BEGIN:VEVENT
DTSTART;VALUE=DATE:20231014
DTEND;VALUE=DATE:20231015
DTSTAMP:20260425T032518
CREATED:20230110T122752Z
LAST-MODIFIED:20230918T084153Z
UID:8869-1697241600-1697327999@www.konj-zveza.org
SUMMARY:CDNB KK STRMOL
DESCRIPTION:VABILO tekmovanje 2023 KK Strmol
URL:https://www.konj-zveza.org/dogodek/cdnb-kk-strmol-4/
CATEGORIES:Dresura
END:VEVENT
END:VCALENDAR