
BEGIN:VCALENDAR
VERSION:2.0
PRODID:-//Konjeniška zveza Slovenije - ECPv5.3.2//NONSGML v1.0//EN
CALSCALE:GREGORIAN
METHOD:PUBLISH
X-WR-CALNAME:Konjeniška zveza Slovenije
X-ORIGINAL-URL:https://www.konj-zveza.org
X-WR-CALDESC:Events for Konjeniška zveza Slovenije
BEGIN:VTIMEZONE
TZID:UTC
BEGIN:STANDARD
TZOFFSETFROM:+0000
TZOFFSETTO:+0000
TZNAME:UTC
DTSTART:20240101T000000
END:STANDARD
END:VTIMEZONE
BEGIN:VEVENT
DTSTART;VALUE=DATE:20240225
DTEND;VALUE=DATE:20240226
DTSTAMP:20260424T220912
CREATED:20240124T122342Z
LAST-MODIFIED:20240212T104650Z
UID:10351-1708819200-1708905599@www.konj-zveza.org
SUMMARY:CCN INDOOR EVENTING - KK GRAD PRESTRANEK
DESCRIPTION:Vabimo vas\, da se v nedeljo 25. februarja 2024 na Gradu Prestranek udeležite Indoor Eventing tekmovanja. \nVeč v vabilu: Vabilo Indoor Eventing \n 
URL:https://www.konj-zveza.org/dogodek/csn-indoor-eventing-kk-grad-prestranek-osnutek/
CATEGORIES:Eventing
ATTACH;FMTTYPE=image/jpeg:https://www.konj-zveza.org/wp-content/uploads/2021/04/eventing.jpg
END:VEVENT
END:VCALENDAR