
BEGIN:VCALENDAR
VERSION:2.0
PRODID:-//Konjeniška zveza Slovenije - ECPv5.3.2//NONSGML v1.0//EN
CALSCALE:GREGORIAN
METHOD:PUBLISH
X-WR-CALNAME:Konjeniška zveza Slovenije
X-ORIGINAL-URL:https://www.konj-zveza.org
X-WR-CALDESC:Events for Konjeniška zveza Slovenije
BEGIN:VTIMEZONE
TZID:UTC
BEGIN:STANDARD
TZOFFSETFROM:+0000
TZOFFSETTO:+0000
TZNAME:UTC
DTSTART:20240101T000000
END:STANDARD
END:VTIMEZONE
BEGIN:VEVENT
DTSTART;VALUE=DATE:20240330
DTEND;VALUE=DATE:20240331
DTSTAMP:20260424T204105
CREATED:20240202T183943Z
LAST-MODIFIED:20240305T121527Z
UID:10370-1711756800-1711843199@www.konj-zveza.org
SUMMARY:TRENING TEKMA V PRESKAKOVANJU OVIR - ŠD HIŠA KONJ
DESCRIPTION:
URL:https://www.konj-zveza.org/dogodek/trening-tekma-v-preskakovanju-ovir-sd-hisa-konj-osnutek/
CATEGORIES:Preskakovanje ovir
END:VEVENT
END:VCALENDAR