
BEGIN:VCALENDAR
VERSION:2.0
PRODID:-//Konjeniška zveza Slovenije - ECPv5.3.2//NONSGML v1.0//EN
CALSCALE:GREGORIAN
METHOD:PUBLISH
X-WR-CALNAME:Konjeniška zveza Slovenije
X-ORIGINAL-URL:https://www.konj-zveza.org
X-WR-CALDESC:Events for Konjeniška zveza Slovenije
BEGIN:VTIMEZONE
TZID:UTC
BEGIN:STANDARD
TZOFFSETFROM:+0000
TZOFFSETTO:+0000
TZNAME:UTC
DTSTART:20240101T000000
END:STANDARD
END:VTIMEZONE
BEGIN:VEVENT
DTSTART;TZID=UTC:20240704T080000
DTEND;TZID=UTC:20240707T170000
DTSTAMP:20260424T152721
CREATED:20231219T103618Z
LAST-MODIFIED:20240307T095834Z
UID:10246-1720080000-1720371600@www.konj-zveza.org
SUMMARY:DRŽAVNO PRVENSTVO V PRESKAKOVANJU OVIR - KOBILARNA LIPICA
DESCRIPTION:
URL:https://www.konj-zveza.org/dogodek/drzavno-prvenstvo-v-preskakovanju-ovir-kobilarna-lipica-osnutek/
CATEGORIES:Preskakovanje ovir
END:VEVENT
END:VCALENDAR