
BEGIN:VCALENDAR
VERSION:2.0
PRODID:-//Konjeniška zveza Slovenije - ECPv5.3.2//NONSGML v1.0//EN
CALSCALE:GREGORIAN
METHOD:PUBLISH
X-WR-CALNAME:Konjeniška zveza Slovenije
X-ORIGINAL-URL:https://www.konj-zveza.org
X-WR-CALDESC:Events for Konjeniška zveza Slovenije
BEGIN:VTIMEZONE
TZID:UTC
BEGIN:STANDARD
TZOFFSETFROM:+0000
TZOFFSETTO:+0000
TZNAME:UTC
DTSTART:20250101T000000
END:STANDARD
END:VTIMEZONE
BEGIN:VEVENT
DTSTART;VALUE=DATE:20250430
DTEND;VALUE=DATE:20250505
DTSTAMP:20260424T015739
CREATED:20250108T114112Z
LAST-MODIFIED:20250113T094121Z
UID:11459-1745971200-1746403199@www.konj-zveza.org
SUMMARY:EEF SERIJA - MANNHEIM
DESCRIPTION:
URL:https://www.konj-zveza.org/dogodek/eef-serija-mannheim/
CATEGORIES:Preskakovanje ovir
END:VEVENT
BEGIN:VEVENT
DTSTART;VALUE=DATE:20250504
DTEND;VALUE=DATE:20250505
DTSTAMP:20260424T015739
CREATED:20250108T114416Z
LAST-MODIFIED:20250108T114416Z
UID:11465-1746316800-1746403199@www.konj-zveza.org
SUMMARY:CDNA POKAL SLO - ŠD TITANI LJUBLJANA
DESCRIPTION:
URL:https://www.konj-zveza.org/dogodek/cdna-pokal-slo-sd-titani-ljubljana/
CATEGORIES:Dresura
END:VEVENT
BEGIN:VEVENT
DTSTART;VALUE=DATE:20250504
DTEND;VALUE=DATE:20250505
DTSTAMP:20260424T015739
CREATED:20250115T084158Z
LAST-MODIFIED:20250115T084158Z
UID:11494-1746316800-1746403199@www.konj-zveza.org
SUMMARY:CDNA ŠD TITANI LJUBLJANA - POKAL SLO
DESCRIPTION:
URL:https://www.konj-zveza.org/dogodek/cdna-sd-titani-ljubljana-pokal-slo/
CATEGORIES:Dresura
END:VEVENT
BEGIN:VEVENT
DTSTART;VALUE=DATE:20250509
DTEND;VALUE=DATE:20250512
DTSTAMP:20260424T015739
CREATED:20250115T103134Z
LAST-MODIFIED:20250404T081952Z
UID:11524-1746748800-1747007999@www.konj-zveza.org
SUMMARY:CSN KK KAMNICA - POKAL SLO
DESCRIPTION:KK Kamnica
URL:https://www.konj-zveza.org/dogodek/csn-kk-hipodrom-kamnica-pokal-slo/
CATEGORIES:Preskakovanje ovir
END:VEVENT
BEGIN:VEVENT
DTSTART;VALUE=DATE:20250510
DTEND;VALUE=DATE:20250511
DTSTAMP:20260424T015739
CREATED:20250115T084324Z
LAST-MODIFIED:20250430T102315Z
UID:11496-1746835200-1746921599@www.konj-zveza.org
SUMMARY:CDNC POSESTVO JUREČIČ
DESCRIPTION:VABILO Posestvo Jurečič
URL:https://www.konj-zveza.org/dogodek/cdna-posestvo-jurecic-2/
CATEGORIES:Dresura
END:VEVENT
BEGIN:VEVENT
DTSTART;VALUE=DATE:20250511
DTEND;VALUE=DATE:20250512
DTSTAMP:20260424T015739
CREATED:20250115T084405Z
LAST-MODIFIED:20250115T084405Z
UID:11498-1746921600-1747007999@www.konj-zveza.org
SUMMARY:CDNA KD MARSILEA
DESCRIPTION:
URL:https://www.konj-zveza.org/dogodek/cdna-kd-marsilea-5/
CATEGORIES:Dresura
END:VEVENT
BEGIN:VEVENT
DTSTART;VALUE=DATE:20250516
DTEND;VALUE=DATE:20250519
DTSTAMP:20260424T015739
CREATED:20250115T104432Z
LAST-MODIFIED:20250509T182017Z
UID:11528-1747353600-1747612799@www.konj-zveza.org
SUMMARY:CSN KK HIPODROM KAMNICA in ŠD TITANI LJUBLJANA- POKAL SLO (hipodrom Stožice)
DESCRIPTION:Vabilo Stožice
URL:https://www.konj-zveza.org/dogodek/csn-kk-hipodrom-kamnica-pokal-slo-2/
LOCATION:Stožice\, Ljubljana\, Stožice 28\, Ljubljana\, 1000\, Slovenija
CATEGORIES:Preskakovanje ovir
END:VEVENT
BEGIN:VEVENT
DTSTART;VALUE=DATE:20250517
DTEND;VALUE=DATE:20250518
DTSTAMP:20260424T015739
CREATED:20250115T084456Z
LAST-MODIFIED:20250430T102358Z
UID:11500-1747440000-1747526399@www.konj-zveza.org
SUMMARY:CDNC POSESTVO JUREČIČ
DESCRIPTION:VABILO Posestvo Jurečič
URL:https://www.konj-zveza.org/dogodek/cdna-posestvo-jurecic-3/
CATEGORIES:Dresura
END:VEVENT
BEGIN:VEVENT
DTSTART;VALUE=DATE:20250524
DTEND;VALUE=DATE:20250525
DTSTAMP:20260424T015739
CREATED:20250115T084653Z
LAST-MODIFIED:20250115T084653Z
UID:11502-1748044800-1748131199@www.konj-zveza.org
SUMMARY:CDNA ŠD TITANI LJUBLJANA - POKAL SLO
DESCRIPTION:
URL:https://www.konj-zveza.org/dogodek/cdna-sd-titani-ljubljana-pokal-slo-2/
CATEGORIES:Dresura
END:VEVENT
BEGIN:VEVENT
DTSTART;VALUE=DATE:20250531
DTEND;VALUE=DATE:20250601
DTSTAMP:20260424T015739
CREATED:20250127T085642Z
LAST-MODIFIED:20250512T081604Z
UID:11567-1748649600-1748735999@www.konj-zveza.org
SUMMARY:PRESKAKOVANJE OVIR - KK KRKA GRM NOVO MESTO
DESCRIPTION:KK KRKA
URL:https://www.konj-zveza.org/dogodek/preskakovanje-ovir-kk-krka-grm-novo-mesto-2/
CATEGORIES:Preskakovanje ovir
END:VEVENT
END:VCALENDAR