
BEGIN:VCALENDAR
VERSION:2.0
PRODID:-//Konjeniška zveza Slovenije - ECPv5.3.2//NONSGML v1.0//EN
CALSCALE:GREGORIAN
METHOD:PUBLISH
X-WR-CALNAME:Konjeniška zveza Slovenije
X-ORIGINAL-URL:https://www.konj-zveza.org
X-WR-CALDESC:Events for Konjeniška zveza Slovenije
BEGIN:VTIMEZONE
TZID:UTC
BEGIN:STANDARD
TZOFFSETFROM:+0000
TZOFFSETTO:+0000
TZNAME:UTC
DTSTART:20250101T000000
END:STANDARD
END:VTIMEZONE
BEGIN:VEVENT
DTSTART;VALUE=DATE:20250530
DTEND;VALUE=DATE:20250602
DTSTAMP:20260424T004002
CREATED:20250115T084731Z
LAST-MODIFIED:20250115T084731Z
UID:11504-1748563200-1748822399@www.konj-zveza.org
SUMMARY:CDI KOBILARNA LIPICA
DESCRIPTION:
URL:https://www.konj-zveza.org/dogodek/cdi-kobilarna-lipica-4/
CATEGORIES:Dresura
END:VEVENT
BEGIN:VEVENT
DTSTART;VALUE=DATE:20250531
DTEND;VALUE=DATE:20250601
DTSTAMP:20260424T004002
CREATED:20250127T085642Z
LAST-MODIFIED:20250512T081604Z
UID:11567-1748649600-1748735999@www.konj-zveza.org
SUMMARY:PRESKAKOVANJE OVIR - KK KRKA GRM NOVO MESTO
DESCRIPTION:KK KRKA
URL:https://www.konj-zveza.org/dogodek/preskakovanje-ovir-kk-krka-grm-novo-mesto-2/
CATEGORIES:Preskakovanje ovir
END:VEVENT
BEGIN:VEVENT
DTSTART;VALUE=DATE:20250606
DTEND;VALUE=DATE:20250609
DTSTAMP:20260424T004002
CREATED:20250115T104531Z
LAST-MODIFIED:20250528T094117Z
UID:11530-1749168000-1749427199@www.konj-zveza.org
SUMMARY:CSN ŠD KONJENIŠKI CENTER CELJE - POKAL SLO
DESCRIPTION:CSN Junij 2025 6.6. – 8.6.2025
URL:https://www.konj-zveza.org/dogodek/csn-sd-konjeniski-center-celje-pokal-slo/
CATEGORIES:Preskakovanje ovir
END:VEVENT
BEGIN:VEVENT
DTSTART;TZID=UTC:20250606T080000
DTEND;TZID=UTC:20250606T170000
DTSTAMP:20260424T004002
CREATED:20250115T084810Z
LAST-MODIFIED:20250519T073739Z
UID:11506-1749196800-1749229200@www.konj-zveza.org
SUMMARY:CDNC KK ROJNIK
DESCRIPTION:KK Rojnik
URL:https://www.konj-zveza.org/dogodek/cdnc-kk-rojnik-3/
CATEGORIES:Dresura
END:VEVENT
BEGIN:VEVENT
DTSTART;VALUE=DATE:20250607
DTEND;VALUE=DATE:20250608
DTSTAMP:20260424T004002
CREATED:20250115T084841Z
LAST-MODIFIED:20250519T073803Z
UID:11508-1749254400-1749340799@www.konj-zveza.org
SUMMARY:CDNA KK ROJNIK - POKAL SLO
DESCRIPTION:KK Rojnik
URL:https://www.konj-zveza.org/dogodek/cdna-kk-rojnik-pokal-slo/
CATEGORIES:Dresura
END:VEVENT
BEGIN:VEVENT
DTSTART;VALUE=DATE:20250611
DTEND;VALUE=DATE:20250616
DTSTAMP:20260424T004002
CREATED:20250108T114214Z
LAST-MODIFIED:20250113T094055Z
UID:11461-1749600000-1750031999@www.konj-zveza.org
SUMMARY:EEF SERIJA - BRATISLAVA
DESCRIPTION:
URL:https://www.konj-zveza.org/dogodek/eef-serija-bratislava/
CATEGORIES:Preskakovanje ovir
END:VEVENT
BEGIN:VEVENT
DTSTART;VALUE=DATE:20250614
DTEND;VALUE=DATE:20250615
DTSTAMP:20260424T004002
CREATED:20250115T084952Z
LAST-MODIFIED:20250115T084952Z
UID:11510-1749859200-1749945599@www.konj-zveza.org
SUMMARY:CDNA KK KRKA GRM NOVO MESTO - POKAL SLO
DESCRIPTION:
URL:https://www.konj-zveza.org/dogodek/cdna-kk-krka-grm-novo-mesto-pokal-slo/
CATEGORIES:Dresura
END:VEVENT
BEGIN:VEVENT
DTSTART;VALUE=DATE:20250615
DTEND;VALUE=DATE:20250616
DTSTAMP:20260424T004002
CREATED:20250218T100504Z
LAST-MODIFIED:20250218T100504Z
UID:11615-1749945600-1750031999@www.konj-zveza.org
SUMMARY:Outdoor eventing Show - Pokal Slovenije
DESCRIPTION:Dolenja vas
URL:https://www.konj-zveza.org/dogodek/outdoor-eventing-show-pokal-slovenije/
LOCATION:Dolenja vas
CATEGORIES:Eventing
ORGANIZER;CN="KK%20Grad%20Prestranek":MAILTO:uprava@gradprestranek.si
END:VEVENT
BEGIN:VEVENT
DTSTART;VALUE=DATE:20250619
DTEND;VALUE=DATE:20250623
DTSTAMP:20260424T004002
CREATED:20250108T113636Z
LAST-MODIFIED:20250603T140028Z
UID:11454-1750291200-1750636799@www.konj-zveza.org
SUMMARY:DRŽAVNO PRVENSTVO V DRESURNEM JAHANJU - KOBILARNA LIPICA
DESCRIPTION:Vabilo DP dresura 2025
URL:https://www.konj-zveza.org/dogodek/drzavno-prvenstvo-v-dresurnem-jahanju-2/
LOCATION:KOBILARNA LIPICA\, Lipica 5\, Sežana\, 6210\, Slovenija
CATEGORIES:Dresura
END:VEVENT
BEGIN:VEVENT
DTSTART;VALUE=DATE:20250620
DTEND;VALUE=DATE:20250623
DTSTAMP:20260424T004002
CREATED:20250118T074339Z
LAST-MODIFIED:20250610T140034Z
UID:11560-1750377600-1750636799@www.konj-zveza.org
SUMMARY:ŠD HIŠA KONJ - POKAL SLO
DESCRIPTION:VABILO 2025 \nSCHEDULE 2025
URL:https://www.konj-zveza.org/dogodek/sd-hisa-konj-pokal-slo/
CATEGORIES:Preskakovanje ovir
END:VEVENT
BEGIN:VEVENT
DTSTART;VALUE=DATE:20250629
DTEND;VALUE=DATE:20250630
DTSTAMP:20260424T004002
CREATED:20250220T092703Z
LAST-MODIFIED:20250610T135953Z
UID:11637-1751155200-1751241599@www.konj-zveza.org
SUMMARY:CDNC KK STOL
DESCRIPTION:VABILO
URL:https://www.konj-zveza.org/dogodek/cdnc-kk-stol-2/
CATEGORIES:Dresura
END:VEVENT
END:VCALENDAR