
BEGIN:VCALENDAR
VERSION:2.0
PRODID:-//Konjeniška zveza Slovenije - ECPv5.3.2//NONSGML v1.0//EN
CALSCALE:GREGORIAN
METHOD:PUBLISH
X-WR-CALNAME:Konjeniška zveza Slovenije
X-ORIGINAL-URL:https://www.konj-zveza.org
X-WR-CALDESC:Events for Konjeniška zveza Slovenije
BEGIN:VTIMEZONE
TZID:UTC
BEGIN:STANDARD
TZOFFSETFROM:+0000
TZOFFSETTO:+0000
TZNAME:UTC
DTSTART:20250101T000000
END:STANDARD
END:VTIMEZONE
BEGIN:VEVENT
DTSTART;VALUE=DATE:20250808
DTEND;VALUE=DATE:20250811
DTSTAMP:20260423T215226
CREATED:20250115T110136Z
LAST-MODIFIED:20250715T152623Z
UID:11536-1754611200-1754870399@www.konj-zveza.org
SUMMARY:CSN ŠD TITANI LJUBLJANA - POKAL SLO
DESCRIPTION:
URL:https://www.konj-zveza.org/dogodek/csn-kk-kamnica-pokal-slo-2/
CATEGORIES:Preskakovanje ovir
END:VEVENT
BEGIN:VEVENT
DTSTART;VALUE=DATE:20250816
DTEND;VALUE=DATE:20250817
DTSTAMP:20260423T215226
CREATED:20250115T110733Z
LAST-MODIFIED:20250730T074254Z
UID:11541-1755302400-1755388799@www.konj-zveza.org
SUMMARY:CDNC ŠD KC CELJE
DESCRIPTION:
URL:https://www.konj-zveza.org/dogodek/cdnc-sd-titani-ljubljana-3/
CATEGORIES:Dresura
END:VEVENT
BEGIN:VEVENT
DTSTART;VALUE=DATE:20250817
DTEND;VALUE=DATE:20250818
DTSTAMP:20260423T215226
CREATED:20250115T110805Z
LAST-MODIFIED:20250730T074315Z
UID:11543-1755388800-1755475199@www.konj-zveza.org
SUMMARY:CDNA ŠD KC CELJE - POKAL SLO
DESCRIPTION:
URL:https://www.konj-zveza.org/dogodek/cdna-sd-titani-ljubljana-pokal-slo-4/
CATEGORIES:Dresura
END:VEVENT
BEGIN:VEVENT
DTSTART;VALUE=DATE:20250823
DTEND;VALUE=DATE:20250824
DTSTAMP:20260423T215226
CREATED:20250320T094714Z
LAST-MODIFIED:20250320T094714Z
UID:11664-1755907200-1755993599@www.konj-zveza.org
SUMMARY:CDNC KD PESNICA
DESCRIPTION:
URL:https://www.konj-zveza.org/dogodek/cdnc-kd-pesnica-4/
CATEGORIES:Dresura
END:VEVENT
BEGIN:VEVENT
DTSTART;VALUE=DATE:20250823
DTEND;VALUE=DATE:20250826
DTSTAMP:20260423T215226
CREATED:20250819T055810Z
LAST-MODIFIED:20250819T060027Z
UID:12252-1755907200-1756166399@www.konj-zveza.org
SUMMARY:DP MLADI KONJI IN POKAL SLO - ŠDKC CELJE in KK VELEBIRO
DESCRIPTION:VABILO
URL:https://www.konj-zveza.org/dogodek/dp-mladi-konji-in-pokal-slo-sdkc-celje-in-kk-velebiro/
LOCATION:Lopata 43\, 3000 Celje\, Lopata 43\, Celje\, 3000\, Slovenija
CATEGORIES:Preskakovanje ovir
END:VEVENT
BEGIN:VEVENT
DTSTART;VALUE=DATE:20250830
DTEND;VALUE=DATE:20250831
DTSTAMP:20260423T215226
CREATED:20250115T111246Z
LAST-MODIFIED:20250115T111246Z
UID:11547-1756512000-1756598399@www.konj-zveza.org
SUMMARY:CDNA ŠD KC CELJE
DESCRIPTION:
URL:https://www.konj-zveza.org/dogodek/cdna-sd-kc-celje/
CATEGORIES:Dresura
END:VEVENT
BEGIN:VEVENT
DTSTART;VALUE=DATE:20250830
DTEND;VALUE=DATE:20250831
DTSTAMP:20260423T215226
CREATED:20250811T072327Z
LAST-MODIFIED:20250811T072334Z
UID:12227-1756512000-1756598399@www.konj-zveza.org
SUMMARY:POKAL SLOVENIJE V VOŽNJI VPREG - KK CELJE
DESCRIPTION:
URL:https://www.konj-zveza.org/dogodek/pokal-slovenije-voznji-vpreg-kk-celje/
CATEGORIES:Vožnja vpreg
END:VEVENT
END:VCALENDAR