
BEGIN:VCALENDAR
VERSION:2.0
PRODID:-//Konjeniška zveza Slovenije - ECPv5.3.2//NONSGML v1.0//EN
CALSCALE:GREGORIAN
METHOD:PUBLISH
X-WR-CALNAME:Konjeniška zveza Slovenije
X-ORIGINAL-URL:https://www.konj-zveza.org
X-WR-CALDESC:Events for Konjeniška zveza Slovenije
BEGIN:VTIMEZONE
TZID:UTC
BEGIN:STANDARD
TZOFFSETFROM:+0000
TZOFFSETTO:+0000
TZNAME:UTC
DTSTART:20250101T000000
END:STANDARD
END:VTIMEZONE
BEGIN:VEVENT
DTSTART;VALUE=DATE:20250903
DTEND;VALUE=DATE:20250908
DTSTAMP:20260423T203829
CREATED:20250115T111959Z
LAST-MODIFIED:20250115T111959Z
UID:11552-1756857600-1757289599@www.konj-zveza.org
SUMMARY:CH BALKANSKO PRVENSTVO - BEOGRAD
DESCRIPTION:
URL:https://www.konj-zveza.org/dogodek/ch-balkansko-prvenstvo-beograd/
CATEGORIES:Preskakovanje ovir
END:VEVENT
BEGIN:VEVENT
DTSTART;VALUE=DATE:20250907
DTEND;VALUE=DATE:20250908
DTSTAMP:20260423T203829
CREATED:20250115T085540Z
LAST-MODIFIED:20250402T100618Z
UID:11516-1757203200-1757289599@www.konj-zveza.org
SUMMARY:CDNA KD MARSILEA
DESCRIPTION:
URL:https://www.konj-zveza.org/dogodek/cdna-dk-marsilea/
CATEGORIES:Dresura
END:VEVENT
BEGIN:VEVENT
DTSTART;VALUE=DATE:20250913
DTEND;VALUE=DATE:20250915
DTSTAMP:20260423T203829
CREATED:20250903T195241Z
LAST-MODIFIED:20250904T071830Z
UID:10600-1757721600-1757894399@www.konj-zveza.org
SUMMARY:DRŽAVNO PRVENSTVO V VOŽNJI VPREG - KOBILARNA LIPICA
DESCRIPTION:Propozicije DP vprege 2025
URL:https://www.konj-zveza.org/dogodek/drzavno-prvenstvo-v-voznji-vpreg-kobilarna-lipica/
LOCATION:Kobilarna Lipica\, Lipica 5\, Sežana\, 6210
CATEGORIES:Vožnja vpreg
ORGANIZER;CN="KOBILARNA%20LIPICA":MAILTO:info@lipica.org
END:VEVENT
BEGIN:VEVENT
DTSTART;VALUE=DATE:20250914
DTEND;VALUE=DATE:20250915
DTSTAMP:20260423T203829
CREATED:20250218T100738Z
LAST-MODIFIED:20250218T100738Z
UID:11620-1757808000-1757894399@www.konj-zveza.org
SUMMARY:Državno prvenstvo v eventingu - KK Grad Prestranek
DESCRIPTION:
URL:https://www.konj-zveza.org/dogodek/drzavno-prvenstvo-v-eventingu-kk-grad-prestranek/
LOCATION:Na Gradu 9\, 6258 Prestranek\, Na Gradu 9\, Prestranek\, 6258\, Slovenija
CATEGORIES:Eventing
ORGANIZER;CN="KK%20Grad%20Prestranek":MAILTO:uprava@gradprestranek.si
END:VEVENT
BEGIN:VEVENT
DTSTART;VALUE=DATE:20250918
DTEND;VALUE=DATE:20250922
DTSTAMP:20260423T203829
CREATED:20250108T113742Z
LAST-MODIFIED:20250904T092831Z
UID:11457-1758153600-1758499199@www.konj-zveza.org
SUMMARY:DRŽAVNO PRVENSTVO V PRESKAKOVANJU OVIR - KOBILARNA LIPICA
DESCRIPTION:DP preskakovanje 2025
URL:https://www.konj-zveza.org/dogodek/drzavno-prvenstvo-v-preskakovanju-ovir-kobilarna-lipica-2/
LOCATION:KOBILARNA LIPICA\, Lipica 5\, Sežana\, 6210\, Slovenija
CATEGORIES:Preskakovanje ovir
END:VEVENT
BEGIN:VEVENT
DTSTART;VALUE=DATE:20250927
DTEND;VALUE=DATE:20250929
DTSTAMP:20260423T203829
CREATED:20250115T085635Z
LAST-MODIFIED:20250918T073628Z
UID:11518-1758931200-1759103999@www.konj-zveza.org
SUMMARY:DP ZA MLADE KONJE IN FINALE POKALA SLOVENIJE - KK STOŽICE
DESCRIPTION:Finale pokala v dresurnem jahanje 2025
URL:https://www.konj-zveza.org/dogodek/dp-za-mlade-konje-in-finale-pokala-slovenije-kk-stozice/
CATEGORIES:Dresura
END:VEVENT
BEGIN:VEVENT
DTSTART;VALUE=DATE:20251004
DTEND;VALUE=DATE:20251005
DTSTAMP:20260423T203829
CREATED:20250402T101012Z
LAST-MODIFIED:20250923T085720Z
UID:11695-1759536000-1759622399@www.konj-zveza.org
SUMMARY:CDNC KK STRMOL
DESCRIPTION:VABILO KK Strmol
URL:https://www.konj-zveza.org/dogodek/cdnc-kk-strmol-2/
CATEGORIES:Dresura
END:VEVENT
END:VCALENDAR