
BEGIN:VCALENDAR
VERSION:2.0
PRODID:-//Konjeniška zveza Slovenije - ECPv5.3.2//NONSGML v1.0//EN
CALSCALE:GREGORIAN
METHOD:PUBLISH
X-WR-CALNAME:Konjeniška zveza Slovenije
X-ORIGINAL-URL:https://www.konj-zveza.org
X-WR-CALDESC:Events for Konjeniška zveza Slovenije
BEGIN:VTIMEZONE
TZID:UTC
BEGIN:STANDARD
TZOFFSETFROM:+0000
TZOFFSETTO:+0000
TZNAME:UTC
DTSTART:20250101T000000
END:STANDARD
END:VTIMEZONE
BEGIN:VEVENT
DTSTART;VALUE=DATE:20251003
DTEND;VALUE=DATE:20251006
DTSTAMP:20260423T192531
CREATED:20250115T110932Z
LAST-MODIFIED:20250115T110932Z
UID:11545-1759449600-1759708799@www.konj-zveza.org
SUMMARY:FINALE POKALA SLOVENIJE - KK KAMNICA
DESCRIPTION:
URL:https://www.konj-zveza.org/dogodek/finale-pokala-slovenije-kk-kamnica/
CATEGORIES:Preskakovanje ovir
END:VEVENT
BEGIN:VEVENT
DTSTART;VALUE=DATE:20251004
DTEND;VALUE=DATE:20251005
DTSTAMP:20260423T192531
CREATED:20250402T101012Z
LAST-MODIFIED:20250923T085720Z
UID:11695-1759536000-1759622399@www.konj-zveza.org
SUMMARY:CDNC KK STRMOL
DESCRIPTION:VABILO KK Strmol
URL:https://www.konj-zveza.org/dogodek/cdnc-kk-strmol-2/
CATEGORIES:Dresura
END:VEVENT
BEGIN:VEVENT
DTSTART;VALUE=DATE:20251011
DTEND;VALUE=DATE:20251012
DTSTAMP:20260423T192531
CREATED:20250819T144818Z
LAST-MODIFIED:20250819T144830Z
UID:12261-1760140800-1760227199@www.konj-zveza.org
SUMMARY:CDNC KK GIBANJE
DESCRIPTION:
URL:https://www.konj-zveza.org/dogodek/cdnc-kk-gibanje-3/
CATEGORIES:Dresura
END:VEVENT
BEGIN:VEVENT
DTSTART;VALUE=DATE:20251011
DTEND;VALUE=DATE:20251012
DTSTAMP:20260423T192531
CREATED:20250923T100428Z
LAST-MODIFIED:20250923T100441Z
UID:12493-1760140800-1760227199@www.konj-zveza.org
SUMMARY:POKAL SLOVENIJE V VOŽNJI VPREG - KK KAMNOSEŠTVO TAVČRAR POVIR
DESCRIPTION:
URL:https://www.konj-zveza.org/dogodek/pokal-slovenije-v-voznji-vpreg-kk-kamnosestvo-tavcrar-povir/
CATEGORIES:Vožnja vpreg
END:VEVENT
BEGIN:VEVENT
DTSTART;VALUE=DATE:20251012
DTEND;VALUE=DATE:20251013
DTSTAMP:20260423T192531
CREATED:20250402T100751Z
LAST-MODIFIED:20251007T132844Z
UID:11693-1760227200-1760313599@www.konj-zveza.org
SUMMARY:CDNA KD MARSILEA
DESCRIPTION:vabilo
URL:https://www.konj-zveza.org/dogodek/cdna-kd-marsilea-6/
CATEGORIES:Dresura
END:VEVENT
BEGIN:VEVENT
DTSTART;VALUE=DATE:20251025
DTEND;VALUE=DATE:20251026
DTSTAMP:20260423T192531
CREATED:20250923T090843Z
LAST-MODIFIED:20251007T132730Z
UID:12487-1761350400-1761436799@www.konj-zveza.org
SUMMARY:CDNA KK STOL
DESCRIPTION:VABILO 2025
URL:https://www.konj-zveza.org/dogodek/cdna-kk-stol/
CATEGORIES:Dresura
END:VEVENT
BEGIN:VEVENT
DTSTART;VALUE=DATE:20251025
DTEND;VALUE=DATE:20251026
DTSTAMP:20260423T192531
CREATED:20250929T081251Z
LAST-MODIFIED:20251013T072909Z
UID:12523-1761350400-1761436799@www.konj-zveza.org
SUMMARY:FINALE POKALA V VOŽNJI VPREG - KK VENIŠE
DESCRIPTION:
URL:https://www.konj-zveza.org/dogodek/finale-pokala-v-voznji-vpreg-kk-venise/
CATEGORIES:Vožnja vpreg
END:VEVENT
END:VCALENDAR