
BEGIN:VCALENDAR
VERSION:2.0
PRODID:-//Konjeniška zveza Slovenije - ECPv5.3.2//NONSGML v1.0//EN
CALSCALE:GREGORIAN
METHOD:PUBLISH
X-WR-CALNAME:Konjeniška zveza Slovenije
X-ORIGINAL-URL:https://www.konj-zveza.org
X-WR-CALDESC:Events for Konjeniška zveza Slovenije
BEGIN:VTIMEZONE
TZID:UTC
BEGIN:STANDARD
TZOFFSETFROM:+0000
TZOFFSETTO:+0000
TZNAME:UTC
DTSTART:20260101T000000
END:STANDARD
END:VTIMEZONE
BEGIN:VEVENT
DTSTART;VALUE=DATE:20260110
DTEND;VALUE=DATE:20260111
DTSTAMP:20260426T033007
CREATED:20250923T095739Z
LAST-MODIFIED:20250923T095739Z
UID:12489-1768003200-1768089599@www.konj-zveza.org
SUMMARY:INDOOR EVENTING GRAD PRESTRANEK - POKAL SLOVENIJE
DESCRIPTION:
URL:https://www.konj-zveza.org/dogodek/indoor-eventing-grad-prestranek-pokal-slovenije/
CATEGORIES:Eventing
END:VEVENT
END:VCALENDAR