
BEGIN:VCALENDAR
VERSION:2.0
PRODID:-//Konjeniška zveza Slovenije - ECPv5.3.2//NONSGML v1.0//EN
CALSCALE:GREGORIAN
METHOD:PUBLISH
X-WR-CALNAME:Konjeniška zveza Slovenije
X-ORIGINAL-URL:https://www.konj-zveza.org
X-WR-CALDESC:Events for Konjeniška zveza Slovenije
BEGIN:VTIMEZONE
TZID:UTC
BEGIN:STANDARD
TZOFFSETFROM:+0000
TZOFFSETTO:+0000
TZNAME:UTC
DTSTART:20260101T000000
END:STANDARD
END:VTIMEZONE
BEGIN:VEVENT
DTSTART;VALUE=DATE:20260405
DTEND;VALUE=DATE:20260406
DTSTAMP:20260423T111727
CREATED:20260216T083236Z
LAST-MODIFIED:20260317T081843Z
UID:12988-1775347200-1775433599@www.konj-zveza.org
SUMMARY:CDNA KK JEŽA PRI JEŽU
DESCRIPTION:VABILO – KK Ježa pri Ježu
URL:https://www.konj-zveza.org/dogodek/cdna-kk-jeza-pri-jezu-5/
CATEGORIES:Dresura
END:VEVENT
BEGIN:VEVENT
DTSTART;VALUE=DATE:20260417
DTEND;VALUE=DATE:20260420
DTSTAMP:20260423T111727
CREATED:20251220T065437Z
LAST-MODIFIED:20260324T152918Z
UID:12736-1776384000-1776643199@www.konj-zveza.org
SUMMARY:CSN KOBILARNA LIPICA - POKAL SLO
DESCRIPTION:Vabilo – Kobilarna Lipica \nSchedule_CSN_Kobilarna_Lipica_ENG
URL:https://www.konj-zveza.org/dogodek/csn-kobilarna-lipica-pokal-slo-4/
LOCATION:Kobilarna Lipica\, Lipica 5\, Sežana\, 6210
CATEGORIES:Preskakovanje ovir
ORGANIZER;CN="Kobilarna%20Lipica":MAILTO:info@lipica.org
END:VEVENT
BEGIN:VEVENT
DTSTART;VALUE=DATE:20260425
DTEND;VALUE=DATE:20260426
DTSTAMP:20260423T111727
CREATED:20260127T161545Z
LAST-MODIFIED:20260408T073134Z
UID:12909-1777075200-1777161599@www.konj-zveza.org
SUMMARY:CDNC ŠD KC CELJE
DESCRIPTION:VABILO
URL:https://www.konj-zveza.org/dogodek/cdnc-sd-kc-celje-2/
CATEGORIES:Dresura
END:VEVENT
BEGIN:VEVENT
DTSTART;VALUE=DATE:20260426
DTEND;VALUE=DATE:20260427
DTSTAMP:20260423T111727
CREATED:20260127T161629Z
LAST-MODIFIED:20260408T073206Z
UID:12911-1777161600-1777247999@www.konj-zveza.org
SUMMARY:CDNA ŠD KC CELJE - POKAL SLO
DESCRIPTION:VABILO
URL:https://www.konj-zveza.org/dogodek/cdna-sd-kc-celje-2/
CATEGORIES:Dresura
END:VEVENT
END:VCALENDAR