
BEGIN:VCALENDAR
VERSION:2.0
PRODID:-//Konjeniška zveza Slovenije - ECPv5.3.2//NONSGML v1.0//EN
CALSCALE:GREGORIAN
METHOD:PUBLISH
X-WR-CALNAME:Konjeniška zveza Slovenije
X-ORIGINAL-URL:https://www.konj-zveza.org
X-WR-CALDESC:Events for Konjeniška zveza Slovenije
BEGIN:VTIMEZONE
TZID:UTC
BEGIN:STANDARD
TZOFFSETFROM:+0000
TZOFFSETTO:+0000
TZNAME:UTC
DTSTART:20260101T000000
END:STANDARD
END:VTIMEZONE
BEGIN:VEVENT
DTSTART;TZID=UTC:20261002T080000
DTEND;TZID=UTC:20261004T170000
DTSTAMP:20260423T193247
CREATED:20260129T092455Z
LAST-MODIFIED:20260129T092455Z
UID:12957-1790928000-1791133200@www.konj-zveza.org
SUMMARY:FINALE POKALA V PRESKAKOVANJU OVIR - ŠD KC CELJE
DESCRIPTION:
URL:https://www.konj-zveza.org/dogodek/finale-pokala-v-preskakovanju-ovir-sd-kc-celje/
CATEGORIES:Preskakovanje ovir
END:VEVENT
BEGIN:VEVENT
DTSTART;VALUE=DATE:20261010
DTEND;VALUE=DATE:20261011
DTSTAMP:20260423T193247
CREATED:20260129T091932Z
LAST-MODIFIED:20260129T091932Z
UID:12948-1791590400-1791676799@www.konj-zveza.org
SUMMARY:CDNC KK STRMOL
DESCRIPTION:
URL:https://www.konj-zveza.org/dogodek/cdnc-kk-strmol-3/
CATEGORIES:Dresura
END:VEVENT
BEGIN:VEVENT
DTSTART;VALUE=DATE:20261011
DTEND;VALUE=DATE:20261012
DTSTAMP:20260423T193247
CREATED:20260129T092004Z
LAST-MODIFIED:20260129T092004Z
UID:12950-1791676800-1791763199@www.konj-zveza.org
SUMMARY:CDNA KD MARSILEA
DESCRIPTION:
URL:https://www.konj-zveza.org/dogodek/cdna-kd-marsilea-8/
CATEGORIES:Dresura
END:VEVENT
BEGIN:VEVENT
DTSTART;VALUE=DATE:20261024
DTEND;VALUE=DATE:20261025
DTSTAMP:20260423T193247
CREATED:20260129T092029Z
LAST-MODIFIED:20260129T092029Z
UID:12952-1792800000-1792886399@www.konj-zveza.org
SUMMARY:CDNC KK GIBANJE
DESCRIPTION:
URL:https://www.konj-zveza.org/dogodek/cdnc-kk-gibanje-4/
CATEGORIES:Dresura
END:VEVENT
END:VCALENDAR